BEGIN:VCALENDAR
VERSION:2.0
PRODID:-//103.200.23.149//NONSGML kigkonsult.se iCalcreator 2.20//
CALSCALE:GREGORIAN
METHOD:PUBLISH
X-WR-TIMEZONE:Asia/Bangkok
BEGIN:VEVENT
UID:event541@Xổ số kiến thiết Quảng Ninh
DTSTAMP:20260419T123722Z
CATEGORIES:KET QUA 
DESCRIPTION:Kết quả ngày 12/11/2023\nCategory: KET QUA \nLink: https://xoso
 quangninh.com.vn/xskt/index.php?option=com_jxs&view=event&id=541:ket-qua-n
 gay-12-11-2023\n
DTSTART;VALUE=DATE:20231112
DTEND;VALUE=DATE:20231113
SUMMARY:Kết quả ngày 12/11/2023
URL:https://xosoquangninh.com.vn/xskt/index.php?option=com_jxs&view=event&i
 d=541:ket-qua-ngay-12-11-2023
END:VEVENT
END:VCALENDAR
