BEGIN:VCALENDAR
VERSION:2.0
PRODID:-//103.200.23.149//NONSGML kigkonsult.se iCalcreator 2.20//
CALSCALE:GREGORIAN
METHOD:PUBLISH
X-WR-TIMEZONE:Asia/Bangkok
BEGIN:VEVENT
UID:event349@Xổ số kiến thiết Quảng Ninh
DTSTAMP:20260419T122107Z
CATEGORIES:KET QUA 
DESCRIPTION:Kết quả ngày 04/05/2023\nCategory: KET QUA \nLink: https://xoso
 quangninh.com.vn/xskt/index.php?option=com_jxs&view=event&id=349:ket-qua-n
 gay-04-05-2023\n
DTSTART;VALUE=DATE:20230504
DTEND;VALUE=DATE:20230505
SUMMARY:Kết quả ngày 04/05/2023
URL:https://xosoquangninh.com.vn/xskt/index.php?option=com_jxs&view=event&i
 d=349:ket-qua-ngay-04-05-2023
END:VEVENT
END:VCALENDAR
