BEGIN:VCALENDAR
VERSION:2.0
PRODID:-//103.200.23.149//NONSGML kigkonsult.se iCalcreator 2.20//
CALSCALE:GREGORIAN
METHOD:PUBLISH
X-WR-TIMEZONE:Asia/Bangkok
BEGIN:VEVENT
UID:event338@Xổ số kiến thiết Quảng Ninh
DTSTAMP:20260419T123722Z
CATEGORIES:KET QUA 
DESCRIPTION:Kết quả ngày 23/04/2023\nCategory: KET QUA \nLink: https://xoso
 quangninh.com.vn/xskt/index.php?option=com_jxs&view=event&id=338:ket-qua-n
 gay-23-04-2023\n
DTSTART;VALUE=DATE:20230423
DTEND;VALUE=DATE:20230424
SUMMARY:Kết quả ngày 23/04/2023
URL:https://xosoquangninh.com.vn/xskt/index.php?option=com_jxs&view=event&i
 d=338:ket-qua-ngay-23-04-2023
END:VEVENT
END:VCALENDAR
