BEGIN:VCALENDAR
VERSION:2.0
PRODID:-//103.200.23.149//NONSGML kigkonsult.se iCalcreator 2.20//
CALSCALE:GREGORIAN
METHOD:PUBLISH
X-WR-TIMEZONE:Asia/Bangkok
BEGIN:VEVENT
UID:event1340@Xổ số kiến thiết Quảng Ninh
DTSTAMP:20260421T150806Z
CATEGORIES:KET QUA 
DESCRIPTION:Kết quả ngày 18/01/2026\nCategory: KET QUA \nLink: https://xoso
 quangninh.com.vn/xskt/index.php?option=com_jxs&view=event&id=1340:ket-qua-
 ngay-18-01-2026\n
DTSTART;VALUE=DATE:20260118
DTEND;VALUE=DATE:20260119
SUMMARY:Kết quả ngày 18/01/2026
URL:https://xosoquangninh.com.vn/xskt/index.php?option=com_jxs&view=event&i
 d=1340:ket-qua-ngay-18-01-2026
END:VEVENT
END:VCALENDAR
