BEGIN:VCALENDAR
VERSION:2.0
PRODID:-//103.200.23.149//NONSGML kigkonsult.se iCalcreator 2.20//
CALSCALE:GREGORIAN
METHOD:PUBLISH
X-WR-TIMEZONE:Asia/Bangkok
BEGIN:VEVENT
UID:event1249@Xổ số kiến thiết Quảng Ninh
DTSTAMP:20260422T222314Z
CATEGORIES:KET QUA 
DESCRIPTION:Kết quả ngày 19/10/2025\nCategory: KET QUA \nLink: https://xoso
 quangninh.com.vn/xskt/index.php?option=com_jxs&view=event&id=1249:ket-qua-
 ngay-19-10-2025\n
DTSTART;VALUE=DATE:20251019
DTEND;VALUE=DATE:20251020
SUMMARY:Kết quả ngày 19/10/2025
URL:https://xosoquangninh.com.vn/xskt/index.php?option=com_jxs&view=event&i
 d=1249:ket-qua-ngay-19-10-2025
END:VEVENT
END:VCALENDAR
