BEGIN:VCALENDAR
VERSION:2.0
PRODID:-//103.200.23.149//NONSGML kigkonsult.se iCalcreator 2.20//
CALSCALE:GREGORIAN
METHOD:PUBLISH
X-WR-TIMEZONE:Asia/Bangkok
BEGIN:VEVENT
UID:event1201@Xổ số kiến thiết Quảng Ninh
DTSTAMP:20260422T094030Z
CATEGORIES:KET QUA 
DESCRIPTION:Kết quả ngày 01/09/2025\nCategory: KET QUA \nLink: https://xoso
 quangninh.com.vn/xskt/index.php?option=com_jxs&view=event&id=1201:ket-qua-
 ngay-01-09-2025\n
DTSTART;VALUE=DATE:20250901
DTEND;VALUE=DATE:20250902
SUMMARY:Kết quả ngày 01/09/2025
URL:https://xosoquangninh.com.vn/xskt/index.php?option=com_jxs&view=event&i
 d=1201:ket-qua-ngay-01-09-2025
END:VEVENT
END:VCALENDAR
